BEGIN:VCALENDAR
PRODID:-//AT Content Types//AT Event//EN
VERSION:2.0
METHOD:PUBLISH
BEGIN:VEVENT
DTSTAMP:20260419T124129Z
CREATED:20170529T171200Z
UID:ATEvent-dd99ecbd157c499b82f58a52cf29f14a
LAST-MODIFIED:20180212T145430Z
SUMMARY:Conférence - catholicisme corrézien
DTSTART:20180208T193000Z
DTEND:20180208T193000Z
DESCRIPTION:Les figures marquantes du catholicisme corrézien XIXe et 
 XXe siècles
LOCATION:Espace Pierre Ceyrac\, site Bossuet - Brive
CONTACT:700ans.diocesedetulle@gmail.com
CLASS:PUBLIC
END:VEVENT
END:VCALENDAR
