BEGIN:VCALENDAR
PRODID:-//AT Content Types//AT Event//EN
VERSION:2.0
METHOD:PUBLISH
BEGIN:VEVENT
DTSTAMP:20260422T060544Z
CREATED:20170524T142049Z
UID:ATEvent-8176ecba418b4ccfba6a3d62dde7c4f1
LAST-MODIFIED:20251006T093518Z
SUMMARY:Pélé VTT 2026
DTSTART:20250725T220000Z
DTEND:20250731T220000Z
DESCRIPTION:Le Pélé VTT 19 en 2026 se fait avec vous !\nLa pastorale
  des jeunes à besoin de vous - Adultes & animateurs engagez-vous pour
  faire vivre cette formidable aventure à la jeunesse de Corrèze !
LOCATION:De Masseret à Notre-Dame de Saint-Cyr-la-Roche
CONTACT:Pastorale des Jeunes\, 06 40 09 15 42\, pelevtt19@gmail.com
CLASS:PUBLIC
END:VEVENT
END:VCALENDAR
