BEGIN:VCALENDAR
PRODID:-//AT Content Types//AT Event//EN
VERSION:1.0
BEGIN:VEVENT
DTSTART:20260513T060000Z
DTEND:20260517T150000Z
DCREATED:20240830T143229Z
UID:ATEvent-33ed464cdbe04f07a025e5663a4c1b70
SEQUENCE:0
LAST-MODIFIED:20251006T082001Z
SUMMARY:Parcours Acutis 2026
DESCRIPTION:Former une génération missionnaire ! Après une premièr
 e édition 2025 réussie\, le Parcours Acutis est de retour en 2026. N
 ouveau parcours\, nouvelle destination\, nouveau groupe… nous avons 
 hâte de vous accompagner !
LOCATION:Lieu Mystère Actuellement
PRIORITY:3
TRANSP:0
END:VEVENT
END:VCALENDAR
