BEGIN:VCALENDAR
PRODID:-//AT Content Types//AT Event//EN
VERSION:1.0
BEGIN:VEVENT
DTSTART:20190322T230000Z
DTEND:20190323T230000Z
DCREATED:20180922T074646Z
UID:ATEvent-49e7b3bb7c3c428e86baef168ecce9fe
SEQUENCE:0
LAST-MODIFIED:20190305T103919Z
SUMMARY:Week-end régional Groupes de prière du Sud-Ouest
DESCRIPTION:« La joie du Seigneur est notre rempart » (Néhémie 8\,
  v.10). Avec Mgr Gosselin\, évêque d’Angoulème.
LOCATION:Brive
PRIORITY:3
TRANSP:0
END:VEVENT
END:VCALENDAR
