BEGIN:VCALENDAR
PRODID:-//AT Content Types//AT Event//EN
VERSION:2.0
METHOD:PUBLISH
BEGIN:VEVENT
DTSTAMP:20260419T174009Z
CREATED:20231129T104807Z
UID:ATEvent-fedbb90381714274bbcc0e68b27cde53
LAST-MODIFIED:20250908T084330Z
SUMMARY:Week-end de formation diocésaine Parcours CLÉOPHAS
DTSTART:20231214T230000Z
DTEND:20231215T230000Z
DESCRIPTION:Rencontre 6 : " Savoir être disciples missionnaires"
LOCATION:Brive Grottes St Antoine
CLASS:PUBLIC
END:VEVENT
END:VCALENDAR
