BEGIN:VCALENDAR
PRODID:-//AT Content Types//AT Event//EN
VERSION:1.0
BEGIN:VEVENT
DTSTART:20191214T090000Z
DTEND:20191214T170000Z
DCREATED:20190920T082650Z
UID:ATEvent-2d58310684054b61a45a04424e2f2fb0
SEQUENCE:0
LAST-MODIFIED:20191126T084505Z
SUMMARY:Vivre l'écologie au quotidien
DESCRIPTION:Mise en œuvre de l’Encyclique du pape François « Laud
 ato Si ». Animé par Hervé Covès\, ingénieur agronome et francisca
 in séculier.
LOCATION:Brive Grottes St Antoine
PRIORITY:3
TRANSP:0
END:VEVENT
END:VCALENDAR
