BEGIN:VCALENDAR
PRODID:-//AT Content Types//AT Event//EN
VERSION:1.0
BEGIN:VEVENT
DTSTART:20190310T152000Z
DTEND:20190407T142000Z
DCREATED:20190228T154033Z
UID:ATEvent-856424fb19a7491e80a3e331c32832c6
SEQUENCE:0
LAST-MODIFIED:20190301T105622Z
SUMMARY:Vivre le Carême sur l'espace missionnaire de Tulle
DESCRIPTION:Dans un monde de plus en plus divisé\, où la violence\, 
 la haine\, semblent tout envahir\, il y a cet appel qui résonne au co
 eur du coeur de l'Evangile : "laissez-vous réconcilier avec Dieu" (2 
 Cor5.20). La conversion à laquelle nous invite le temps de carême es
 t bien celle-ci entrée dans un chemin où cette réalité d'évangile
  change notre regard\, fait évoluer notre discernement\, nous entraî
 ne à la conversion.
LOCATION:Tulle (Cathédrale)
PRIORITY:3
TRANSP:0
END:VEVENT
END:VCALENDAR
