BEGIN:VCALENDAR
PRODID:-//AT Content Types//AT Event//EN
VERSION:2.0
METHOD:PUBLISH
BEGIN:VEVENT
DTSTAMP:20260419T205623Z
CREATED:20180703T080954Z
UID:ATEvent-4208582f97b44e45b21f76cdd0a2dae7
LAST-MODIFIED:20180703T081002Z
SUMMARY:Visites guidées de l'orgue de la Cathédrale de Tulle
DTSTART:20180721T150000Z
DTEND:20180721T150000Z
DESCRIPTION:Pour les visites de l'orgue\, s'inscrire à l'Office de To
 urisme
LOCATION:Tulle Cathédrale
CONTACT:06 12 23 92 07
CLASS:PUBLIC
END:VEVENT
END:VCALENDAR
