BEGIN:VCALENDAR
PRODID:-//AT Content Types//AT Event//EN
VERSION:2.0
METHOD:PUBLISH
BEGIN:VEVENT
DTSTAMP:20260423T122727Z
CREATED:20251121T093346Z
UID:ATEvent-2dc7c2547a824ad2b29f9353738cc7df
LAST-MODIFIED:20251208T080318Z
SUMMARY:Visite pastorale de l'évêque dans l'Espace missionnaire d'Ussel
DTSTART:20251201T090000Z
DTEND:20251207T143500Z
DESCRIPTION:Notre évêque visitera au cours de l'année les 4 Espaces
  missionnaires de notre diocèse. Début avec l'Espace missionnaire d'
 Ussel du 1er au 7 décembre.
CLASS:PUBLIC
END:VEVENT
END:VCALENDAR
