BEGIN:VCALENDAR
PRODID:-//AT Content Types//AT Event//EN
VERSION:2.0
METHOD:PUBLISH
BEGIN:VEVENT
DTSTAMP:20260419T205356Z
CREATED:20221007T102239Z
UID:ATEvent-966e3c1ac80448eebe68b7c725f56f31
LAST-MODIFIED:20221007T102246Z
SUMMARY:Vente solidaire au profit de familles libanaises
DTSTART:20221014T220000Z
DTEND:20221015T220000Z
DESCRIPTION:Vente solidaire\, du RPL Brive Limousin\, au profit de fam
 illes libanaises en difficulté.
LOCATION:Brive salle du Pont du Buy
CONTACT:RPL Brive Limousin\, sabathierjean@yahoo.com
CLASS:PUBLIC
END:VEVENT
END:VCALENDAR
