BEGIN:VCALENDAR
PRODID:-//AT Content Types//AT Event//EN
VERSION:1.0
BEGIN:VEVENT
DTSTART:20221217T190000Z
DTEND:20221217T203000Z
DCREATED:20190920T085108Z
UID:ATEvent-f85eaa740bd943ea84ffe85f7dff3164
SEQUENCE:0
LAST-MODIFIED:20221201T103939Z
SUMMARY:Veillée de prière et pèlerinage avec les gens du voyage
DESCRIPTION:Partager la prière des gens du voyage : louange\, enseign
 ement\, partage. Tisser des liens fraternels entre sédentaires et gen
 s du voyage. Veillée animée par l’équipe d’aumônerie des gens 
 du voyage.
LOCATION:Brive Grottes St Antoine
PRIORITY:3
TRANSP:0
END:VEVENT
END:VCALENDAR
