BEGIN:VCALENDAR
PRODID:-//AT Content Types//AT Event//EN
VERSION:1.0
BEGIN:VEVENT
DTSTART:20171125T190000Z
DTEND:20171125T203000Z
DCREATED:20171030T165631Z
UID:ATEvent-9d013f64ffa6433c951798978a2bb4d9
SEQUENCE:0
LAST-MODIFIED:20171030T170152Z
SUMMARY:Veillée de prière des gens du voyage
LOCATION:BRIVE Grottes Saint Antoine
PRIORITY:3
TRANSP:0
END:VEVENT
END:VCALENDAR
