BEGIN:VCALENDAR
PRODID:-//AT Content Types//AT Event//EN
VERSION:2.0
METHOD:PUBLISH
BEGIN:VEVENT
DTSTAMP:20260420T012842Z
CREATED:20180927T083400Z
UID:ATEvent-992d5fec68c648eb99b3ffd86aba3c4d
LAST-MODIFIED:20180927T083405Z
SUMMARY:VeillÃ©e de priÃ¨re des gens du voyage
DTSTART:20181124T190000Z
DTEND:20181124T203000Z
DESCRIPTION:Durant lâ€™hiver\, partager la priÃ¨re des gens du voyageÂ
  : louange\, enseignement\, partage. Tisser des liens fraternels entre
  sÃ©dentaires et gens du voyage. VeillÃ©e animÃ©e par lâ€™Ã©quipe dâ€™
 aumÃ´nerie des gens du voyage et frÃ¨re Didier.
LOCATION:Brive Grottes St Antoine
CONTACT:Grottes Saint Antoine\, 05 55 24 10 60
CLASS:PUBLIC
END:VEVENT
END:VCALENDAR
