BEGIN:VCALENDAR
PRODID:-//AT Content Types//AT Event//EN
VERSION:1.0
BEGIN:VEVENT
DTSTART:20180203T190000Z
DTEND:20180203T203000Z
DCREATED:20180123T083700Z
UID:ATEvent-fc10e20ddf1a4e05a03074e5a3891623
SEQUENCE:0
LAST-MODIFIED:20180123T083706Z
SUMMARY:Veillée de prière des gens du voyage
DESCRIPTION:Durant l’hiver\, partager la prière des gens du voyage 
 : louange\, enseignement\, partage. \nTisser des liens fraternels entr
 e sédentaires et gens du voyage.\n\nVeillée animée par l’équipe 
 d’aumônerie des gens du voyage accompagnée par frère Didier.
LOCATION:BRIVE Grottes Saint Antoine
PRIORITY:3
TRANSP:0
END:VEVENT
END:VCALENDAR
