BEGIN:VCALENDAR
PRODID:-//AT Content Types//AT Event//EN
VERSION:1.0
BEGIN:VEVENT
DTSTART:20171216T190000Z
DTEND:20171216T203000Z
DCREATED:20171204T094243Z
UID:ATEvent-7c90644119ae4815aea64fcce5d2a897
SEQUENCE:0
LAST-MODIFIED:20171204T094437Z
SUMMARY:Veillée de prière des gens du voyage
LOCATION:Brive Grottes Saint Antoine
PRIORITY:3
TRANSP:0
END:VEVENT
END:VCALENDAR
