BEGIN:VCALENDAR
PRODID:-//AT Content Types//AT Event//EN
VERSION:2.0
METHOD:PUBLISH
BEGIN:VEVENT
DTSTAMP:20260421T130104Z
CREATED:20231129T110648Z
UID:ATEvent-6c6f45c4d2e44473b5430619d84f12f3
LAST-MODIFIED:20231129T110657Z
SUMMARY:Veillée de Noël à la lueur de la bougie
DTSTART:20231224T163000Z
DTEND:20231224T163000Z
DESCRIPTION:Veillée de Noël à la lueur de la bougie sur le thème d
 e la lumière. Accueil sur le parvis de l'église dès 17h30 autour d'
 un vin ou chocolat chaud.
LOCATION:Le Chastang
CLASS:PUBLIC
END:VEVENT
END:VCALENDAR
