BEGIN:VCALENDAR
PRODID:-//AT Content Types//AT Event//EN
VERSION:1.0
BEGIN:VEVENT
DTSTART:20181117T084000Z
DTEND:20181117T084000Z
DCREATED:20181109T084655Z
UID:ATEvent-90756a70adfe4b42a86e574bafd552de
SEQUENCE:0
LAST-MODIFIED:20181112T075811Z
SUMMARY:Une journée avec Mère de Miséricorde
DESCRIPTION:Mgr Bozo\, les membres de la mission-vie de Limoges & les 
 coordinateurs nationaux de Mère de Miséricorde vous invitent à une 
 journée avec Mère de Miséricorde.
LOCATION:Limoges paroisse Saint Jean Paul
PRIORITY:3
TRANSP:0
END:VEVENT
END:VCALENDAR
