BEGIN:VCALENDAR
PRODID:-//AT Content Types//AT Event//EN
VERSION:1.0
BEGIN:VEVENT
DTSTART:20191231T170000Z
DTEND:20191231T170000Z
DCREATED:20191211T144833Z
UID:ATEvent-97aa281568104ac88ac036d6fdcf98c0
SEQUENCE:0
LAST-MODIFIED:20191211T145013Z
SUMMARY:Un conte musical de Noël  de la Chorale Esperanza
DESCRIPTION:Cet hiver\, la chorale Esperanza donne trois concerts pour
  terminer cette année 2019 en musique. Ces concerts\, présentés cet
 te année sous la forme d’un conte musical\, feront voyager l’audi
 toire à travers l’univers de Noël. Depuis 2013\, la chorale se ras
 semble une à deux fois par an pour donner des concerts dans le Lot et
  la Corrèze. Musique sacrée\, variété\, gospel : les chanteurs off
 rent un répertoire riche et varié. Les choristes proposent cette ann
 ée une toute nouvelle formule de concert\, avec pour fil conducteur l
 e récit d’un conte de Noël.
LOCATION:Brive église des Rosiers
PRIORITY:3
TRANSP:0
END:VEVENT
END:VCALENDAR
