BEGIN:VCALENDAR
PRODID:-//AT Content Types//AT Event//EN
VERSION:1.0
BEGIN:VEVENT
DTSTART:20190314T193000Z
DTEND:20190314T193000Z
DCREATED:20190221T174951Z
UID:ATEvent-fad4d2e72cfc4a7b90f487ed4d6f2dd0
SEQUENCE:0
LAST-MODIFIED:20190221T175000Z
SUMMARY:Témoignage d'un partenaire malien du C.C.F.D.
DESCRIPTION:Un partenaire malien du CCFD-Terre solidaire témoignera d
 e ce qu'il fait dans son pays pour aider les paysans à améliorer leu
 r vie tout en respectant leur environnement. Il s'agit de Monsieur N'T
 yo TRAORE qui fait partie de l'Association des Organisations Professio
 nnelles Paysannes (AOPP) de son pays.
LOCATION:Ussel (presbytère)
PRIORITY:3
TRANSP:0
END:VEVENT
END:VCALENDAR
