BEGIN:VCALENDAR
PRODID:-//AT Content Types//AT Event//EN
VERSION:2.0
METHOD:PUBLISH
BEGIN:VEVENT
DTSTAMP:20260419T205609Z
CREATED:20181109T083430Z
UID:ATEvent-cf9f210eed5340208c08300c454aa151
LAST-MODIFIED:20181109T083437Z
SUMMARY:Table ronde sur l'héritage de Luther Martin King
DTSTART:20181111T140000Z
DTEND:20181111T140000Z
DESCRIPTION:L'Eglise Protestante  et l'Eglise Baptiste de Brive ont le
  plaisir de vous inviter à la table-ronde qu'elles organisent sur l'h
 éritage de Martin Luther King "Guerre et non-violence active: l'héri
 tage de MLK".
LOCATION:Brive 11 rue Bertrand de Born
CONTACT:Elisabeth Brinkman\, pasteur de l'Eglise protestante Unie de Brive - Corrèze et Nord du Lot
CLASS:PUBLIC
END:VEVENT
END:VCALENDAR
