BEGIN:VCALENDAR
PRODID:-//AT Content Types//AT Event//EN
VERSION:1.0
BEGIN:VEVENT
DTSTART:20190911T183000Z
DTEND:20190911T193000Z
DCREATED:20190909T092406Z
UID:ATEvent-6acf83442abe4811b537e3fb14eee244
SEQUENCE:0
LAST-MODIFIED:20190909T092413Z
SUMMARY:Soirée louange et adoration de l'Espace Missionnaire de Brive
DESCRIPTION:Tous les mercredis
LOCATION:Brive Collégiale Saint Martin
PRIORITY:3
TRANSP:0
END:VEVENT
END:VCALENDAR
