BEGIN:VCALENDAR
PRODID:-//AT Content Types//AT Event//EN
VERSION:1.0
BEGIN:VEVENT
DTSTART:20190209T183000Z
DTEND:20190209T183000Z
DCREATED:20190111T091420Z
UID:ATEvent-6a58dd0b50ba4825b4c4949481e30592
SEQUENCE:0
LAST-MODIFIED:20190111T091426Z
SUMMARY:Soirée de la Saint Valentin autrement
LOCATION:Brive restaurant Le Teinchurier
PRIORITY:3
TRANSP:0
END:VEVENT
END:VCALENDAR
