BEGIN:VCALENDAR
PRODID:-//AT Content Types//AT Event//EN
VERSION:2.0
METHOD:PUBLISH
BEGIN:VEVENT
DTSTAMP:20260419T234740Z
CREATED:20210610T082654Z
UID:ATEvent-2b867dae88734e4a843aecb7cfa1c0bc
LAST-MODIFIED:20210610T083004Z
SUMMARY:Session théologique d'été avec le Père Elisée
DTSTART:20210817T080000Z
DTEND:20210820T133000Z
DESCRIPTION:Le Père Elisée propose une session théologique d'été.
  Le thème sera : "les arts liturgiques entre Orient et Occident. Il s
 ’agira essentiellement de l’architecture et des arts graphiques : 
 peinture\, sculpture\, iconographie... mais également la musique litu
 rgique. Le parcours sera à la fois chronologique – des origines jui
 ves à l’époque moderne – etomparatif\, à travers l’évolution
  parallèle des arts religieux en Orient et en Occident.
LOCATION:Aubazine abbaye Saint Etienne
CONTACT:Père Elisée \, 07 80 23 11 54\, p.elisa@free.fr
URL:https://abbaye.aubazine.com/
CLASS:PUBLIC
END:VEVENT
END:VCALENDAR
