BEGIN:VCALENDAR
PRODID:-//AT Content Types//AT Event//EN
VERSION:2.0
METHOD:PUBLISH
BEGIN:VEVENT
DTSTAMP:20260425T202503Z
CREATED:20240318T093242Z
UID:ATEvent-c7b9f9c78d7743099c9247bf3424a556
LAST-MODIFIED:20240318T094017Z
SUMMARY:Session théologique d’été :  Mes Pères de l'Eglise
DTSTART:20240819T080000Z
DTEND:20240822T133000Z
DESCRIPTION:Le Père Elisée aborderai cette année un sujet qui l'a t
 oujours tenu particulièrement à cœur et qui a été le centre de so
 n enseignement dans les différents séminaires et facultés de théol
 ogie où il a été amené à enseigner.
LOCATION:Aubazine abbaye
CONTACT:07 80 23 11 54 \, p.elisha@free.fr
CLASS:PUBLIC
END:VEVENT
END:VCALENDAR
