BEGIN:VCALENDAR
PRODID:-//AT Content Types//AT Event//EN
VERSION:1.0
BEGIN:VEVENT
DTSTART:20210831T220000Z
DTEND:20210904T220000Z
DCREATED:20190624T083224Z
UID:ATEvent-437a5b4dd77d4add8e2695939f079d26
SEQUENCE:0
LAST-MODIFIED:20210827T073921Z
SUMMARY:Semaine Mariale à Notre-Dame d'Eygurande
DESCRIPTION:Toutes les messes seront célébrées à la chapelle Notre
 -Dame d'Eygurande.
LOCATION:Eygurande
PRIORITY:3
TRANSP:0
END:VEVENT
END:VCALENDAR
