BEGIN:VCALENDAR
PRODID:-//AT Content Types//AT Event//EN
VERSION:1.0
BEGIN:VEVENT
DTSTART:20210907T220000Z
DTEND:20210914T220000Z
DCREATED:20210906T074451Z
UID:ATEvent-f826a82f0dbd46f79750485beab8a3ff
SEQUENCE:0
LAST-MODIFIED:20210906T074552Z
SUMMARY:Semaine mariale à Notre-Dame de Belpeuch
LOCATION:Belpeuch
PRIORITY:3
TRANSP:0
END:VEVENT
END:VCALENDAR
