BEGIN:VCALENDAR
PRODID:-//AT Content Types//AT Event//EN
VERSION:1.0
BEGIN:VEVENT
DTSTART:20180123T193000Z
DTEND:20180123T193000Z
DCREATED:20180118T090836Z
UID:ATEvent-1933be24f75f468698b4954b06580821
SEQUENCE:0
LAST-MODIFIED:20180118T091226Z
SUMMARY:Semaine de prière pour l'Unité des Chrétiens
DESCRIPTION:Chaque année\, le principal temps fort œcuménique demeu
 re la « Semaine de prière pour l’unité chrétienne » qui\, depui
 s 1908\, rassemble des chrétiens de toutes confessions du 18 au 25 ja
 nvier. Le groupe de prière à vocation œcuménique "la Fontaine Silo
 é" invite tous ceux qui se sentent concernés par l’œcuménisme à
  se joindre à eux lors de leur prière hebdomadaire.
LOCATION:Brive 24 avenue Alfred de Musset
PRIORITY:3
TRANSP:0
END:VEVENT
END:VCALENDAR
