BEGIN:VCALENDAR
PRODID:-//AT Content Types//AT Event//EN
VERSION:1.0
BEGIN:VEVENT
DTSTART:20210117T230000Z
DTEND:20210124T230000Z
DCREATED:20201123T155801Z
UID:ATEvent-59f3ad2f1eea49cda4d1330695894121
SEQUENCE:0
LAST-MODIFIED:20210120T095231Z
SUMMARY:Semaine de priÃ¨re pour l'unitÃ© des chrÃ©tiens 2021
DESCRIPTION:Comme chaque annÃ©e\, la semaine de priÃ¨re pour lâ€™unitÃ
 © des chrÃ©tiens s'ouvre le 18 janvier 2021. Le Le thÃ¨me choisi\, Â« 
 Demeurez dans mon amour et vous porterez du fruit en abondance Â»\, ex
 prime la vocation de priÃ¨re\, de rÃ©conciliation et dâ€™unitÃ© dans l
 â€™Ã‰glise. Il indique Ã©galement la mission de tout chrÃ©tien.
PRIORITY:3
TRANSP:0
END:VEVENT
END:VCALENDAR
