BEGIN:VCALENDAR
PRODID:-//AT Content Types//AT Event//EN
VERSION:1.0
BEGIN:VEVENT
DTSTART:20220118T081500Z
DTEND:20220126T081500Z
DCREATED:20210610T080129Z
UID:ATEvent-6fc133a3693d4cdd83cbc38a2aff9b0e
SEQUENCE:0
LAST-MODIFIED:20220111T151056Z
SUMMARY:Semaine de l'Unité des Chrétiens
PRIORITY:3
TRANSP:0
END:VEVENT
END:VCALENDAR
