BEGIN:VCALENDAR
PRODID:-//AT Content Types//AT Event//EN
VERSION:2.0
METHOD:PUBLISH
BEGIN:VEVENT
DTSTAMP:20260425T130819Z
CREATED:20190409T082941Z
UID:ATEvent-7d2bc3e427be40b69432a7260791ee36
LAST-MODIFIED:20190409T090637Z
SUMMARY:Saint Vincent de Paul et les personnes handicapées
DTSTART:20190428T120000Z
DTEND:20190428T120000Z
DESCRIPTION:La Société St Vincent de Paul invite fraternellement tou
 tes les personnes handicapées du département à une matinée récré
 ative. Animation avec un groupe folklorique\, goûter\, cadeaux\, beau
 coup d'amour.
LOCATION:Tulle salle de l'Auzelou
CONTACT:Danielle Rebeyrotte\, 05 55 20 08 95\, rebeyrotteda@gmail.com
CLASS:PUBLIC
END:VEVENT
END:VCALENDAR
