BEGIN:VCALENDAR
PRODID:-//AT Content Types//AT Event//EN
VERSION:2.0
METHOD:PUBLISH
BEGIN:VEVENT
DTSTAMP:20260419T122325Z
CREATED:20210401T095256Z
UID:ATEvent-fab8d5b1bdf4417394bd4c7b7924ba3a
LAST-MODIFIED:20210408T122652Z
SUMMARY:Saint Joseph\, un témoignage pour aujourd'hui
DTSTART:20210612T130000Z
DTEND:20210612T130000Z
DESCRIPTION:Conférence de l'abbé Etienne TWAGIRUMUKIZA
LOCATION:Egletons
CONTACT:07 80 35 91 70\, etwagira20@gmail.com
CLASS:PUBLIC
END:VEVENT
END:VCALENDAR
