BEGIN:VCALENDAR
PRODID:-//AT Content Types//AT Event//EN
VERSION:1.0
BEGIN:VEVENT
DTSTART:20200904T183000Z
DTEND:20200904T183000Z
DCREATED:20200904T073235Z
UID:ATEvent-e652926021554685804b2f80c1a30cb9
SEQUENCE:0
LAST-MODIFIED:20200904T073242Z
SUMMARY:Réunion d'information pour les équipes Notre-Dame
DESCRIPTION:Cheminer avec le Christ\, personnellement et en couple\, v
 ivre au quotidien le sacrement de mariage et porter du fruit : c’est
  l’objectif que poursuivent les équipiers Notre-Dame.
LOCATION:Tulle aumônerie des jeunes (place Pasteur)
PRIORITY:3
TRANSP:0
END:VEVENT
END:VCALENDAR
