BEGIN:VCALENDAR
PRODID:-//AT Content Types//AT Event//EN
VERSION:1.0
BEGIN:VEVENT
DTSTART:20170901T080000Z
DTEND:20170901T080000Z
DCREATED:20170822T092354Z
UID:ATEvent-81677f2b07a94ed58c3804f8c69b59a0
SEQUENCE:0
LAST-MODIFIED:20170822T092544Z
SUMMARY:Réunion des membres des E.A.P. de l'Espace Missionnaire de Tulle
LOCATION:GIMEL salle polyvalente
PRIORITY:3
TRANSP:0
END:VEVENT
END:VCALENDAR
