BEGIN:VCALENDAR
PRODID:-//AT Content Types//AT Event//EN
VERSION:1.0
BEGIN:VEVENT
DTSTART:20200221T230000Z
DTEND:20200226T230000Z
DCREATED:20200117T083819Z
UID:ATEvent-54301df5830a4bcba2512e368fc317d5
SEQUENCE:0
LAST-MODIFIED:20200117T083824Z
SUMMARY:Retraite spirituelle selon les exercices de St Ignace
DESCRIPTION:Retraite proposée par le groupe de prière SILOE
LOCATION:Brive grottes Saint Antoine
PRIORITY:3
TRANSP:0
END:VEVENT
END:VCALENDAR
