BEGIN:VCALENDAR
PRODID:-//AT Content Types//AT Event//EN
VERSION:2.0
METHOD:PUBLISH
BEGIN:VEVENT
DTSTAMP:20260425T112717Z
CREATED:20200529T090340Z
UID:ATEvent-c4944583213e4ba9b7266ea70e94e628
LAST-MODIFIED:20200602T064839Z
SUMMARY:Retraite spirituelle aux grottes St Antoine
DTSTART:20200802T160000Z
DTEND:20200808T120000Z
DESCRIPTION:Avec Fr Nicolas MORIN
LOCATION:Brive Grottes St Antoine
CONTACT:Hôtellerie des Grottes de St Antoine
CLASS:PUBLIC
END:VEVENT
END:VCALENDAR
