BEGIN:VCALENDAR
PRODID:-//AT Content Types//AT Event//EN
VERSION:2.0
METHOD:PUBLISH
BEGIN:VEVENT
DTSTAMP:20260425T040143Z
CREATED:20190311T085242Z
UID:ATEvent-7d4d91ef2e564f13bab5dcf5a5d62e43
LAST-MODIFIED:20190311T085251Z
SUMMARY:Repas solidaire en faveur du C.C.F.D. à Beaulieu
DTSTART:20190313T180000Z
DTEND:20190313T180000Z
DESCRIPTION:Repas préparé par les jeunes de l'aumônerie et en prés
 ence d'un délégué du Burkina Faso.
LOCATION:Beaulieu Maison paroissiale
CONTACT:Père Gérard Reynal\, 06 37 23 43 05
CLASS:PUBLIC
END:VEVENT
END:VCALENDAR
