BEGIN:VCALENDAR
PRODID:-//AT Content Types//AT Event//EN
VERSION:2.0
METHOD:PUBLISH
BEGIN:VEVENT
DTSTAMP:20260419T193619Z
CREATED:20190913T083626Z
UID:ATEvent-520acdaac8904896bca5500d0c57ace6
LAST-MODIFIED:20190913T083656Z
SUMMARY:Rentrée Guides et Scouts d'Europe
DTSTART:20190921T080000Z
DTEND:20190921T160000Z
DESCRIPTION:De retour de vacances et des camps d’été\, les 70 Guid
 es et Scouts d’Europe de Brive se retrouvent pour accueillir 17 nouv
 eaux membres lors de leur journée de rentrée le 21 septembre.
LOCATION:Cornil
CONTACT:Christophe GILLE\, 06 82 28 28 66
CLASS:PUBLIC
END:VEVENT
END:VCALENDAR
