BEGIN:VCALENDAR
PRODID:-//AT Content Types//AT Event//EN
VERSION:1.0
BEGIN:VEVENT
DTSTART:20210920T141000Z
DTEND:20210920T141000Z
DCREATED:20210920T141414Z
UID:ATEvent-919483c63b234b2a92b5c00b5b74606f
SEQUENCE:0
LAST-MODIFIED:20210920T141421Z
SUMMARY:Rentrée des Scouts et Guides de France - Brive
LOCATION:10 Impasse Joséphine Baker\, 19100 Brive la Gaillarde
PRIORITY:3
TRANSP:0
END:VEVENT
END:VCALENDAR
