BEGIN:VCALENDAR
PRODID:-//AT Content Types//AT Event//EN
VERSION:1.0
BEGIN:VEVENT
DTSTART:20220826T183000Z
DTEND:20220826T183500Z
DCREATED:20220823T164351Z
UID:ATEvent-ab0d097a74e44c5ea92bb82bf7a64695
SEQUENCE:0
LAST-MODIFIED:20220823T164359Z
SUMMARY:Rendez-vous de louanges avec les Voix de l'Arc-en-Ciel
DESCRIPTION:Chanter\, c'est prier deux fois !
LOCATION:Seilhac
PRIORITY:3
TRANSP:0
END:VEVENT
END:VCALENDAR
