BEGIN:VCALENDAR
PRODID:-//AT Content Types//AT Event//EN
VERSION:2.0
METHOD:PUBLISH
BEGIN:VEVENT
DTSTAMP:20260422T114825Z
CREATED:20220823T164644Z
UID:ATEvent-48cfcae65a4c4618912fe87113186479
LAST-MODIFIED:20220823T164653Z
SUMMARY:Rendez-vous de louanges avec les Voix de l'Arc-en-Ciel
DTSTART:20220828T160000Z
DTEND:20220828T160000Z
LOCATION:Cornil
CONTACT:catho.tulle@gmail.com
CLASS:PUBLIC
END:VEVENT
END:VCALENDAR
