BEGIN:VCALENDAR
PRODID:-//AT Content Types//AT Event//EN
VERSION:1.0
BEGIN:VEVENT
DTSTART:20241215T153000Z
DTEND:20241215T153000Z
DCREATED:20241204T164632Z
UID:ATEvent-9944b7f576ef4f8d92c835c6cb856086
SEQUENCE:0
LAST-MODIFIED:20241213T103137Z
SUMMARY:Rendez-vous de l'Avent avec les Voix de l 'Arc en Ciel
DESCRIPTION:Venez chanter et prier Noël avec les Voix de l’arc en c
 iel et les enfants du Caté messe qui feront une crèche vivante !
LOCATION:Marcillac La Croisille
PRIORITY:3
TRANSP:0
END:VEVENT
END:VCALENDAR
