BEGIN:VCALENDAR
PRODID:-//AT Content Types//AT Event//EN
VERSION:1.0
BEGIN:VEVENT
DTSTART:20210626T080000Z
DTEND:20210626T140000Z
DCREATED:20210621T074246Z
UID:ATEvent-7a55b755150544ec87a8fddfba50815d
SEQUENCE:0
LAST-MODIFIED:20210621T074313Z
SUMMARY:Rencontre de Lourdes Cancer EspÃ©rance de Tulle
DESCRIPTION:La prochaine rencontre de Lourdes Cancer EspÃ©rance de Tul
 le a lieu Ã  la Maison diocÃ©saine de Tulle. Cette annÃ©e encore le pÃ
 ¨lerinage de LCE nâ€™aura pas lieu Ã  Lourdes en prÃ©sentiel\, trop dâ
 €™incertitudes \, trop de pÃ¨lerins fragiles... En 2020 a Ã©tÃ© organi
 sÃ© le Â« pÃ¨lerinage Clin dâ€™Å“il Â»\, cette annÃ©e le pÃ¨lerinage d
 u 21 au 25 septembre 2021 se prÃ©sentera sous une autre formeâ€¦ il es
 t en prÃ©paration !
LOCATION:Tulle Maison diocÃ©saine
PRIORITY:3
TRANSP:0
END:VEVENT
END:VCALENDAR
