BEGIN:VCALENDAR
PRODID:-//AT Content Types//AT Event//EN
VERSION:1.0
BEGIN:VEVENT
DTSTART:20190510T183000Z
DTEND:20190510T183000Z
DCREATED:20190409T080657Z
UID:ATEvent-670925aa68d94d74828a4df4cf5d2194
SEQUENCE:0
LAST-MODIFIED:20190503T083104Z
SUMMARY:Rencontre avec l'évêque du Sahara\, Claude Rault
DESCRIPTION:Père Blanc\, Claude Rault fonde en Algérie le Lien de la
  Paix pour le dialogue islamo-chrétien. Il sera évêque de Laghouat 
 de 2004 à 2017. Il nous fait le plaisir de venir à Brive nous entret
 enir de la nécessité d’un dialogue interreligieux.
LOCATION:Brive Grottes St Antoine
PRIORITY:3
TRANSP:0
END:VEVENT
END:VCALENDAR
