BEGIN:VCALENDAR
PRODID:-//AT Content Types//AT Event//EN
VERSION:2.0
METHOD:PUBLISH
BEGIN:VEVENT
DTSTAMP:20260422T114824Z
CREATED:20190121T094456Z
UID:ATEvent-647c34af10124a649a6b674c14e43698
LAST-MODIFIED:20190218T153244Z
SUMMARY:Regards croisés sur un chemin commun avec le C.C.F..D.
DTSTART:20190201T180000Z
DTEND:20190201T180000Z
DESCRIPTION:Soirée- échanges "Regards Croisés sur un Chemin Commun:
  Birmanie\, Mali\, Auvergne-Limousin "autour du: travailler et s'engag
 er autrement\, produire et commercer autrement..."\, à l'occasion du 
 départ en immersion ( 16 février-3 mars 2019) au Myanmar (Ex Birmani
 e) de bénévoles du CCFD-Terre Solidaire de la région Auvergne-Limou
 sin dont Odile Chavanon de Tulle et de partenaires du Sahel.
LOCATION:Tulle salle Marie Laurent avenue Alsace Lorraine
CONTACT:Marie Rosier\, 05 55 26 93 85
CLASS:PUBLIC
END:VEVENT
END:VCALENDAR
