BEGIN:VCALENDAR
PRODID:-//AT Content Types//AT Event//EN
VERSION:2.0
METHOD:PUBLISH
BEGIN:VEVENT
DTSTAMP:20260425T202502Z
CREATED:20171128T085540Z
UID:ATEvent-5fdb498b83494c2fa488a4f644faa637
LAST-MODIFIED:20171128T085547Z
SUMMARY:Rallye des crÃ¨ches de la paroisse de Seilhac
DTSTART:20171217T120000Z
DTEND:20171217T150000Z
DESCRIPTION:Accueil dans les neuf Ã©glises de la communautÃ© locale de
  Seilhac\, Ã  partir de 13H. Et comme on ne veut pas perdre nos bonnes
  habitudes\, on se retrouvera Ã  partir de 16H autour dâ€™un goÃ»ter Ã
   la salle paroissiale de Seilhac.\n\nOn vous attend nombreux\, en fam
 ille et avec vos amis\, prÃªts Ã  rÃ©pondre aux questions qui vont jal
 onner votre visite dans vos Ã©glises.\nUne nouveautÃ© cette annÃ©e : d
 ans chaque Ã©glise une Â« boÃ®te Ã  priÃ¨res Â» sera mise Ã  votre dis
 position. Pour que chacun ,sâ€™il le souhaite\, y dÃ©pose une intentio
 n de priÃ¨re. Les neuf boÃ®tes seront apportÃ©es Ã  la veillÃ©e de NoÃ
 «l et participeront Ã  la priÃ¨re universelle.\n\nNous vous disons : a
 u dimanche 17 dÃ©cembre
LOCATION:Eglises de la communautÃ© locale de Seilhac
CONTACT:Paroisse de Seilhac\, 06 23 18 35 04 / 06 17 86 18 41 / 06 77 18 27 68
CLASS:PUBLIC
END:VEVENT
END:VCALENDAR
