BEGIN:VCALENDAR
PRODID:-//AT Content Types//AT Event//EN
VERSION:2.0
METHOD:PUBLISH
BEGIN:VEVENT
DTSTAMP:20260424T092754Z
CREATED:20190527T070331Z
UID:ATEvent-7f1d9da11c3f489e9ba6fc0eca51f900
LAST-MODIFIED:20190527T071652Z
SUMMARY:Projection du film LOURDES
DTSTART:20190604T183000Z
DTEND:20190604T183000Z
LOCATION:Brive cinéma Le Rex
CONTACT:A.F.C. de la Corrèze
CLASS:PUBLIC
END:VEVENT
END:VCALENDAR
