BEGIN:VCALENDAR
PRODID:-//AT Content Types//AT Event//EN
VERSION:2.0
METHOD:PUBLISH
BEGIN:VEVENT
DTSTAMP:20260423T201923Z
CREATED:20191015T073222Z
UID:ATEvent-6e32dd759bff4f11bafc88c4a25dbae7
LAST-MODIFIED:20191015T073231Z
SUMMARY:Projection du film "Dieu n'est pas mort3"
DTSTART:20191017T183000Z
DTEND:20191017T183000Z
DESCRIPTION:Proposé par les A.F.C. Corrèze
LOCATION:Brive salle du Pont du Buy
CONTACT:A.F.C. Corrèze\, afc.correze@yahoo.fr
CLASS:PUBLIC
END:VEVENT
END:VCALENDAR
