BEGIN:VCALENDAR
PRODID:-//AT Content Types//AT Event//EN
VERSION:1.0
BEGIN:VEVENT
DTSTART:20190201T193000Z
DTEND:20190201T193000Z
DCREATED:20190123T132444Z
UID:ATEvent-313de43ccb3c40af99294dd20b2629ac
SEQUENCE:0
LAST-MODIFIED:20190123T132450Z
SUMMARY:Préparation au mariage - Espace Missionnaire de Tulle
LOCATION:Tulle Maison diocésaine
PRIORITY:3
TRANSP:0
END:VEVENT
END:VCALENDAR
