BEGIN:VCALENDAR
PRODID:-//AT Content Types//AT Event//EN
VERSION:1.0
BEGIN:VEVENT
DTSTART:20190505T070000Z
DTEND:20190505T100000Z
DCREATED:20190123T134118Z
UID:ATEvent-dc114daf40dd4445867bfbc5fec9c392
SEQUENCE:0
LAST-MODIFIED:20190123T134124Z
SUMMARY:Préparation au mariage - Espace Missionnaire de Tulle
DESCRIPTION:Rencontres avec les témoins\, bénédictions des fiancés
  lors de la messe.
LOCATION:Tulle Cathédrale
PRIORITY:3
TRANSP:0
END:VEVENT
END:VCALENDAR
