BEGIN:VCALENDAR
PRODID:-//AT Content Types//AT Event//EN
VERSION:2.0
METHOD:PUBLISH
BEGIN:VEVENT
DTSTAMP:20260422T095327Z
CREATED:20190123T133708Z
UID:ATEvent-f41760195c204694a3ea9896e029d528
LAST-MODIFIED:20190123T133715Z
SUMMARY:Préparation au mariage - Espace Missionnaire de Tulle
DTSTART:20190405T183000Z
DTEND:20190405T183500Z
LOCATION:Tulle Maison diocésaine
CONTACT:05 55 26 71 72 / 05 55 28 98 90\, annemarie.cathedrale19@wanadoo.fr
CLASS:PUBLIC
END:VEVENT
END:VCALENDAR
